BEGIN:VCALENDAR
VERSION:2.0
PRODID:-//Florida National University (FNU) - ECPv6.14.2//NONSGML v1.0//EN
CALSCALE:GREGORIAN
METHOD:PUBLISH
X-WR-CALNAME:Florida National University (FNU)
X-ORIGINAL-URL:https://www.fnu.edu
X-WR-CALDESC:Events for Florida National University (FNU)
REFRESH-INTERVAL;VALUE=DURATION:PT1H
X-Robots-Tag:noindex
X-PUBLISHED-TTL:PT1H
BEGIN:VTIMEZONE
TZID:America/New_York
BEGIN:DAYLIGHT
TZOFFSETFROM:-0500
TZOFFSETTO:-0400
TZNAME:EDT
DTSTART:20290311T070000
END:DAYLIGHT
BEGIN:STANDARD
TZOFFSETFROM:-0400
TZOFFSETTO:-0500
TZNAME:EST
DTSTART:20291104T060000
END:STANDARD
END:VTIMEZONE
BEGIN:VEVENT
DTSTART;VALUE=DATE:20290816
DTEND;VALUE=DATE:20290817
DTSTAMP:20260419T170243
CREATED:20241009T190800Z
LAST-MODIFIED:20241009T190800Z
UID:28711-1881532800-1881619199@www.fnu.edu
SUMMARY:End of Summer Semester
DESCRIPTION:
URL:https://www.fnu.edu/event/end-of-summer-semester-8/
CATEGORIES:event
END:VEVENT
BEGIN:VEVENT
DTSTART;VALUE=DATE:20290820
DTEND;VALUE=DATE:20290821
DTSTAMP:20260419T170243
CREATED:20241009T190836Z
LAST-MODIFIED:20241009T190836Z
UID:28713-1881878400-1881964799@www.fnu.edu
SUMMARY:No Classes Summer Recess
DESCRIPTION:
URL:https://www.fnu.edu/event/no-classes-summer-recess-6/
CATEGORIES:event
END:VEVENT
BEGIN:VEVENT
DTSTART;VALUE=DATE:20290827
DTEND;VALUE=DATE:20290828
DTSTAMP:20260419T170243
CREATED:20241009T190909Z
LAST-MODIFIED:20241009T190909Z
UID:28715-1882483200-1882569599@www.fnu.edu
SUMMARY:No Classes Summer Recess
DESCRIPTION:
URL:https://www.fnu.edu/event/no-classes-summer-recess-7/
CATEGORIES:event
END:VEVENT
END:VCALENDAR