BEGIN:VCALENDAR
VERSION:2.0
PRODID:-//Florida National University (FNU) - ECPv6.14.2//NONSGML v1.0//EN
CALSCALE:GREGORIAN
METHOD:PUBLISH
X-ORIGINAL-URL:https://www.fnu.edu
X-WR-CALDESC:Events for Florida National University (FNU)
REFRESH-INTERVAL;VALUE=DURATION:PT1H
X-Robots-Tag:noindex
X-PUBLISHED-TTL:PT1H
BEGIN:VTIMEZONE
TZID:America/New_York
BEGIN:DAYLIGHT
TZOFFSETFROM:-0500
TZOFFSETTO:-0400
TZNAME:EDT
DTSTART:20290311T070000
END:DAYLIGHT
BEGIN:STANDARD
TZOFFSETFROM:-0400
TZOFFSETTO:-0500
TZNAME:EST
DTSTART:20291104T060000
END:STANDARD
END:VTIMEZONE
BEGIN:VEVENT
DTSTART;VALUE=DATE:20290903
DTEND;VALUE=DATE:20290904
DTSTAMP:20260419T183456
CREATED:20241010T184457Z
LAST-MODIFIED:20241010T184457Z
UID:28719-1883088000-1883174399@www.fnu.edu
SUMMARY:Labor Day – University Closed
DESCRIPTION:
URL:https://www.fnu.edu/event/labor-day-university-closed-8/
CATEGORIES:event
END:VEVENT
BEGIN:VEVENT
DTSTART;VALUE=DATE:20290904
DTEND;VALUE=DATE:20290905
DTSTAMP:20260419T183456
CREATED:20241010T184538Z
LAST-MODIFIED:20241010T184538Z
UID:28721-1883174400-1883260799@www.fnu.edu
SUMMARY:Start of Fall Semester Term A
DESCRIPTION:
URL:https://www.fnu.edu/event/start-of-fall-semester-term-a-7/
CATEGORIES:event
END:VEVENT
BEGIN:VEVENT
DTSTART;VALUE=DATE:20290907
DTEND;VALUE=DATE:20290908
DTSTAMP:20260419T183456
CREATED:20241010T184622Z
LAST-MODIFIED:20260114T193945Z
UID:28723-1883433600-1883519999@www.fnu.edu
SUMMARY:Last day for add-drop courses
DESCRIPTION:
URL:https://www.fnu.edu/event/last-day-for-add-drop-courses-36/
CATEGORIES:event
END:VEVENT
END:VCALENDAR