BEGIN:VCALENDAR
VERSION:2.0
PRODID:-//Florida National University (FNU) - ECPv6.14.2//NONSGML v1.0//EN
CALSCALE:GREGORIAN
METHOD:PUBLISH
X-WR-CALNAME:Florida National University (FNU)
X-ORIGINAL-URL:https://www.fnu.edu
X-WR-CALDESC:Events for Florida National University (FNU)
REFRESH-INTERVAL;VALUE=DURATION:PT1H
X-Robots-Tag:noindex
X-PUBLISHED-TTL:PT1H
BEGIN:VTIMEZONE
TZID:America/New_York
BEGIN:DAYLIGHT
TZOFFSETFROM:-0500
TZOFFSETTO:-0400
TZNAME:EDT
DTSTART:20300310T070000
END:DAYLIGHT
BEGIN:STANDARD
TZOFFSETFROM:-0400
TZOFFSETTO:-0500
TZNAME:EST
DTSTART:20301103T060000
END:STANDARD
END:VTIMEZONE
BEGIN:VEVENT
DTSTART;VALUE=DATE:20300304
DTEND;VALUE=DATE:20300305
DTSTAMP:20260420T032550
CREATED:20241010T190452Z
LAST-MODIFIED:20241010T190452Z
UID:28755-1898812800-1898899199@www.fnu.edu
SUMMARY:Start of Term B
DESCRIPTION:
URL:https://www.fnu.edu/event/start-of-term-b-24/
CATEGORIES:event
END:VEVENT
BEGIN:VEVENT
DTSTART;VALUE=DATE:20300308
DTEND;VALUE=DATE:20300309
DTSTAMP:20260420T032550
CREATED:20241010T190531Z
LAST-MODIFIED:20260114T194022Z
UID:28757-1899158400-1899244799@www.fnu.edu
SUMMARY:Last day for add-drop courses
DESCRIPTION:
URL:https://www.fnu.edu/event/last-day-for-add-drop-courses-39/
CATEGORIES:event
END:VEVENT
END:VCALENDAR