BEGIN:VCALENDAR
VERSION:2.0
PRODID:-//Florida National University (FNU) - ECPv6.14.2//NONSGML v1.0//EN
CALSCALE:GREGORIAN
METHOD:PUBLISH
X-ORIGINAL-URL:https://www.fnu.edu
X-WR-CALDESC:Events for Florida National University (FNU)
REFRESH-INTERVAL;VALUE=DURATION:PT1H
X-Robots-Tag:noindex
X-PUBLISHED-TTL:PT1H
BEGIN:VTIMEZONE
TZID:America/New_York
BEGIN:DAYLIGHT
TZOFFSETFROM:-0500
TZOFFSETTO:-0400
TZNAME:EDT
DTSTART:20300310T070000
END:DAYLIGHT
BEGIN:STANDARD
TZOFFSETFROM:-0400
TZOFFSETTO:-0500
TZNAME:EST
DTSTART:20301103T060000
END:STANDARD
END:VTIMEZONE
BEGIN:VEVENT
DTSTART;VALUE=DATE:20300418
DTEND;VALUE=DATE:20300419
DTSTAMP:20260422T044338
CREATED:20241010T190610Z
LAST-MODIFIED:20241010T190610Z
UID:28759-1902700800-1902787199@www.fnu.edu
SUMMARY:Holy Thursday – Faculty Workday
DESCRIPTION:
URL:https://www.fnu.edu/event/holy-thursday-faculty-workday-7/
CATEGORIES:event
END:VEVENT
BEGIN:VEVENT
DTSTART;VALUE=DATE:20300419
DTEND;VALUE=DATE:20300420
DTSTAMP:20260422T044338
CREATED:20241010T190644Z
LAST-MODIFIED:20241010T190644Z
UID:28761-1902787200-1902873599@www.fnu.edu
SUMMARY:Good Friday – University Closed
DESCRIPTION:
URL:https://www.fnu.edu/event/good-friday-university-closed-8/
CATEGORIES:event
END:VEVENT
BEGIN:VEVENT
DTSTART;VALUE=DATE:20300425
DTEND;VALUE=DATE:20300426
DTSTAMP:20260422T044338
CREATED:20241010T190712Z
LAST-MODIFIED:20241010T190712Z
UID:28763-1903305600-1903391999@www.fnu.edu
SUMMARY:End of Spring Semester
DESCRIPTION:
URL:https://www.fnu.edu/event/end-of-spring-semester-7/
CATEGORIES:event
END:VEVENT
BEGIN:VEVENT
DTSTART;VALUE=DATE:20300429
DTEND;VALUE=DATE:20300430
DTSTAMP:20260422T044338
CREATED:20241010T190916Z
LAST-MODIFIED:20241010T190916Z
UID:28765-1903651200-1903737599@www.fnu.edu
SUMMARY:Start of Summer Semester Term A
DESCRIPTION:
URL:https://www.fnu.edu/event/start-of-summer-semester-term-a-7/
CATEGORIES:event
END:VEVENT
END:VCALENDAR