BEGIN:VCALENDAR
VERSION:2.0
PRODID:-//Florida National University (FNU) - ECPv6.14.2//NONSGML v1.0//EN
CALSCALE:GREGORIAN
METHOD:PUBLISH
X-ORIGINAL-URL:https://www.fnu.edu
X-WR-CALDESC:Events for Florida National University (FNU)
REFRESH-INTERVAL;VALUE=DURATION:PT1H
X-Robots-Tag:noindex
X-PUBLISHED-TTL:PT1H
BEGIN:VTIMEZONE
TZID:America/New_York
BEGIN:DAYLIGHT
TZOFFSETFROM:-0500
TZOFFSETTO:-0400
TZNAME:EDT
DTSTART:20300310T070000
END:DAYLIGHT
BEGIN:STANDARD
TZOFFSETFROM:-0400
TZOFFSETTO:-0500
TZNAME:EST
DTSTART:20301103T060000
END:STANDARD
END:VTIMEZONE
BEGIN:VEVENT
DTSTART;VALUE=DATE:20300620
DTEND;VALUE=DATE:20300621
DTSTAMP:20260422T074357
CREATED:20241010T191047Z
LAST-MODIFIED:20241010T191047Z
UID:28771-1908144000-1908230399@www.fnu.edu
SUMMARY:End of Term A
DESCRIPTION:
URL:https://www.fnu.edu/event/end-of-term-a-23/
CATEGORIES:event
END:VEVENT
BEGIN:VEVENT
DTSTART;VALUE=DATE:20300624
DTEND;VALUE=DATE:20300625
DTSTAMP:20260422T074357
CREATED:20241010T191121Z
LAST-MODIFIED:20241010T191121Z
UID:28773-1908489600-1908575999@www.fnu.edu
SUMMARY:Start of Term B
DESCRIPTION:
URL:https://www.fnu.edu/event/start-of-term-b-25/
CATEGORIES:event
END:VEVENT
BEGIN:VEVENT
DTSTART;VALUE=DATE:20300628
DTEND;VALUE=DATE:20300629
DTSTAMP:20260422T074357
CREATED:20241010T191154Z
LAST-MODIFIED:20260114T194034Z
UID:28775-1908835200-1908921599@www.fnu.edu
SUMMARY:Last day for add-drop courses
DESCRIPTION:
URL:https://www.fnu.edu/event/last-day-for-add-drop-courses-41/
CATEGORIES:event
END:VEVENT
END:VCALENDAR