BEGIN:VCALENDAR
VERSION:2.0
PRODID:-//Florida National University (FNU) - ECPv6.14.2//NONSGML v1.0//EN
CALSCALE:GREGORIAN
METHOD:PUBLISH
X-WR-CALNAME:Florida National University (FNU)
X-ORIGINAL-URL:https://www.fnu.edu
X-WR-CALDESC:Events for Florida National University (FNU)
REFRESH-INTERVAL;VALUE=DURATION:PT1H
X-Robots-Tag:noindex
X-PUBLISHED-TTL:PT1H
BEGIN:VTIMEZONE
TZID:America/New_York
BEGIN:DAYLIGHT
TZOFFSETFROM:-0500
TZOFFSETTO:-0400
TZNAME:EDT
DTSTART:20310309T070000
END:DAYLIGHT
BEGIN:STANDARD
TZOFFSETFROM:-0400
TZOFFSETTO:-0500
TZNAME:EST
DTSTART:20311102T060000
END:STANDARD
END:VTIMEZONE
BEGIN:VEVENT
DTSTART;VALUE=DATE:20310101
DTEND;VALUE=DATE:20310102
DTSTAMP:20260422T180534
CREATED:20241011T110857Z
LAST-MODIFIED:20241011T110857Z
UID:28807-1924992000-1925078399@www.fnu.edu
SUMMARY:New Year’s Day-University Closed
DESCRIPTION:
URL:https://www.fnu.edu/event/new-years-day-university-closed/
CATEGORIES:event
END:VEVENT
BEGIN:VEVENT
DTSTART;VALUE=DATE:20310106
DTEND;VALUE=DATE:20310107
DTSTAMP:20260422T180534
CREATED:20241011T110929Z
LAST-MODIFIED:20241011T110929Z
UID:28809-1925424000-1925510399@www.fnu.edu
SUMMARY:Start of Spring Semester Term A
DESCRIPTION:
URL:https://www.fnu.edu/event/start-of-spring-semester-term-a-8/
CATEGORIES:event
END:VEVENT
BEGIN:VEVENT
DTSTART;VALUE=DATE:20310109
DTEND;VALUE=DATE:20310110
DTSTAMP:20260422T180534
CREATED:20241011T110959Z
LAST-MODIFIED:20241011T110959Z
UID:28811-1925683200-1925769599@www.fnu.edu
SUMMARY:Last day for add-drop courses
DESCRIPTION:
URL:https://www.fnu.edu/event/last-day-for-add-drop-courses-44/
CATEGORIES:event
END:VEVENT
BEGIN:VEVENT
DTSTART;VALUE=DATE:20310120
DTEND;VALUE=DATE:20310121
DTSTAMP:20260422T180534
CREATED:20241011T111027Z
LAST-MODIFIED:20241011T111027Z
UID:28813-1926633600-1926719999@www.fnu.edu
SUMMARY:Martin Luther King\, Jr. – Faculty Workday
DESCRIPTION:
URL:https://www.fnu.edu/event/martin-luther-king-jr-faculty-workday-8/
CATEGORIES:event
END:VEVENT
END:VCALENDAR