BEGIN:VCALENDAR
VERSION:2.0
PRODID:-//Florida National University (FNU) - ECPv6.14.2//NONSGML v1.0//EN
CALSCALE:GREGORIAN
METHOD:PUBLISH
X-WR-CALNAME:Florida National University (FNU)
X-ORIGINAL-URL:https://www.fnu.edu
X-WR-CALDESC:Events for Florida National University (FNU)
REFRESH-INTERVAL;VALUE=DURATION:PT1H
X-Robots-Tag:noindex
X-PUBLISHED-TTL:PT1H
BEGIN:VTIMEZONE
TZID:America/New_York
BEGIN:DAYLIGHT
TZOFFSETFROM:-0500
TZOFFSETTO:-0400
TZNAME:EDT
DTSTART:20310309T070000
END:DAYLIGHT
BEGIN:STANDARD
TZOFFSETFROM:-0400
TZOFFSETTO:-0500
TZNAME:EST
DTSTART:20311102T060000
END:STANDARD
END:VTIMEZONE
BEGIN:VEVENT
DTSTART;VALUE=DATE:20311013
DTEND;VALUE=DATE:20311014
DTSTAMP:20260423T080908
CREATED:20241011T112916Z
LAST-MODIFIED:20241011T112916Z
UID:28855-1949616000-1949702399@www.fnu.edu
SUMMARY:Columbus Day – (Faculty Workday)
DESCRIPTION:
URL:https://www.fnu.edu/event/columbus-day-faculty-workday-9/
CATEGORIES:event
END:VEVENT
BEGIN:VEVENT
DTSTART;VALUE=DATE:20311023
DTEND;VALUE=DATE:20311024
DTSTAMP:20260423T080908
CREATED:20241011T112939Z
LAST-MODIFIED:20241011T112939Z
UID:28857-1950480000-1950566399@www.fnu.edu
SUMMARY:End of Term A
DESCRIPTION:
URL:https://www.fnu.edu/event/end-of-term-a-27/
CATEGORIES:event
END:VEVENT
BEGIN:VEVENT
DTSTART;VALUE=DATE:20311027
DTEND;VALUE=DATE:20311028
DTSTAMP:20260423T080908
CREATED:20241011T113004Z
LAST-MODIFIED:20241011T113004Z
UID:28859-1950825600-1950911999@www.fnu.edu
SUMMARY:Start of Term B
DESCRIPTION:
URL:https://www.fnu.edu/event/start-of-term-b-29/
CATEGORIES:event
END:VEVENT
BEGIN:VEVENT
DTSTART;VALUE=DATE:20311030
DTEND;VALUE=DATE:20311031
DTSTAMP:20260423T080908
CREATED:20241011T113026Z
LAST-MODIFIED:20241011T113026Z
UID:28861-1951084800-1951171199@www.fnu.edu
SUMMARY:Last day for add-drop courses
DESCRIPTION:
URL:https://www.fnu.edu/event/last-day-for-add-drop-courses-49/
CATEGORIES:event
END:VEVENT
END:VCALENDAR