BEGIN:VCALENDAR
VERSION:2.0
PRODID:-//Florida National University (FNU) - ECPv6.14.2//NONSGML v1.0//EN
CALSCALE:GREGORIAN
METHOD:PUBLISH
X-WR-CALNAME:Florida National University (FNU)
X-ORIGINAL-URL:https://www.fnu.edu
X-WR-CALDESC:Events for Florida National University (FNU)
REFRESH-INTERVAL;VALUE=DURATION:PT1H
X-Robots-Tag:noindex
X-PUBLISHED-TTL:PT1H
BEGIN:VTIMEZONE
TZID:America/New_York
BEGIN:DAYLIGHT
TZOFFSETFROM:-0500
TZOFFSETTO:-0400
TZNAME:EDT
DTSTART:20320314T070000
END:DAYLIGHT
BEGIN:STANDARD
TZOFFSETFROM:-0400
TZOFFSETTO:-0500
TZNAME:EST
DTSTART:20321107T060000
END:STANDARD
END:VTIMEZONE
BEGIN:VEVENT
DTSTART;VALUE=DATE:20321011
DTEND;VALUE=DATE:20321012
DTSTAMP:20260424T060313
CREATED:20241011T115602Z
LAST-MODIFIED:20241011T115602Z
UID:28917-1981065600-1981151999@www.fnu.edu
SUMMARY:Columbus Day – (Faculty Workday)
DESCRIPTION:
URL:https://www.fnu.edu/event/columbus-day-faculty-workday-10/
CATEGORIES:event
END:VEVENT
BEGIN:VEVENT
DTSTART;VALUE=DATE:20321021
DTEND;VALUE=DATE:20321022
DTSTAMP:20260424T060313
CREATED:20241011T115626Z
LAST-MODIFIED:20241011T115626Z
UID:28919-1981929600-1982015999@www.fnu.edu
SUMMARY:End of Term A
DESCRIPTION:
URL:https://www.fnu.edu/event/end-of-term-a-30/
CATEGORIES:event
END:VEVENT
BEGIN:VEVENT
DTSTART;VALUE=DATE:20321025
DTEND;VALUE=DATE:20321026
DTSTAMP:20260424T060313
CREATED:20241011T115652Z
LAST-MODIFIED:20241011T115652Z
UID:28921-1982275200-1982361599@www.fnu.edu
SUMMARY:Start of Term B
DESCRIPTION:
URL:https://www.fnu.edu/event/start-of-term-b-32/
CATEGORIES:event
END:VEVENT
BEGIN:VEVENT
DTSTART;VALUE=DATE:20321028
DTEND;VALUE=DATE:20321029
DTSTAMP:20260424T060313
CREATED:20241011T115713Z
LAST-MODIFIED:20241011T115713Z
UID:28923-1982534400-1982620799@www.fnu.edu
SUMMARY:Last day for add-drop courses
DESCRIPTION:
URL:https://www.fnu.edu/event/last-day-for-add-drop-courses-55/
CATEGORIES:event
END:VEVENT
END:VCALENDAR