BEGIN:VCALENDAR
VERSION:2.0
PRODID:-//Florida National University (FNU) - ECPv6.14.2//NONSGML v1.0//EN
CALSCALE:GREGORIAN
METHOD:PUBLISH
X-ORIGINAL-URL:https://www.fnu.edu
X-WR-CALDESC:Events for Florida National University (FNU)
REFRESH-INTERVAL;VALUE=DURATION:PT1H
X-Robots-Tag:noindex
X-PUBLISHED-TTL:PT1H
BEGIN:VTIMEZONE
TZID:America/New_York
BEGIN:DAYLIGHT
TZOFFSETFROM:-0500
TZOFFSETTO:-0400
TZNAME:EDT
DTSTART:20340312T070000
END:DAYLIGHT
BEGIN:STANDARD
TZOFFSETFROM:-0400
TZOFFSETTO:-0500
TZNAME:EST
DTSTART:20341105T060000
END:STANDARD
END:VTIMEZONE
BEGIN:VEVENT
DTSTART;VALUE=DATE:20340501
DTEND;VALUE=DATE:20340502
DTSTAMP:20260425T134837
CREATED:20241011T123955Z
LAST-MODIFIED:20241011T123955Z
UID:29021-2030054400-2030140799@www.fnu.edu
SUMMARY:Start of Summer Semester Term A
DESCRIPTION:
URL:https://www.fnu.edu/event/start-of-summer-semester-term-a-11/
CATEGORIES:event
END:VEVENT
BEGIN:VEVENT
DTSTART;VALUE=DATE:20340504
DTEND;VALUE=DATE:20340505
DTSTAMP:20260425T134837
CREATED:20241011T124025Z
LAST-MODIFIED:20241011T124025Z
UID:29023-2030313600-2030399999@www.fnu.edu
SUMMARY:Last day for add-drop courses
DESCRIPTION:
URL:https://www.fnu.edu/event/last-day-for-add-drop-courses-64/
CATEGORIES:event
END:VEVENT
BEGIN:VEVENT
DTSTART;VALUE=DATE:20340529
DTEND;VALUE=DATE:20340530
DTSTAMP:20260425T134837
CREATED:20241011T124053Z
LAST-MODIFIED:20241011T124053Z
UID:29025-2032473600-2032559999@www.fnu.edu
SUMMARY:Memorial Day – University Closed
DESCRIPTION:
URL:https://www.fnu.edu/event/memorial-day-university-closed-12/
CATEGORIES:event
END:VEVENT
END:VCALENDAR