BEGIN:VCALENDAR
VERSION:2.0
PRODID:-//Florida National University (FNU) - ECPv6.14.2//NONSGML v1.0//EN
CALSCALE:GREGORIAN
METHOD:PUBLISH
X-WR-CALNAME:Florida National University (FNU)
X-ORIGINAL-URL:https://www.fnu.edu
X-WR-CALDESC:Events for Florida National University (FNU)
REFRESH-INTERVAL;VALUE=DURATION:PT1H
X-Robots-Tag:noindex
X-PUBLISHED-TTL:PT1H
BEGIN:VTIMEZONE
TZID:America/New_York
BEGIN:DAYLIGHT
TZOFFSETFROM:-0500
TZOFFSETTO:-0400
TZNAME:EDT
DTSTART:20300310T070000
END:DAYLIGHT
BEGIN:STANDARD
TZOFFSETFROM:-0400
TZOFFSETTO:-0500
TZNAME:EST
DTSTART:20301103T060000
END:STANDARD
END:VTIMEZONE
BEGIN:VEVENT
DTSTART;VALUE=DATE:20300819
DTEND;VALUE=DATE:20300820
DTSTAMP:20260422T121551
CREATED:20241010T191330Z
LAST-MODIFIED:20241010T191330Z
UID:28781-1913328000-1913414399@www.fnu.edu
SUMMARY:Planning and Evaluation Week (No Classes Summer Recess)
DESCRIPTION:
URL:https://www.fnu.edu/event/planning-and-evaluation-week-no-classes-summer-recess-5/
CATEGORIES:event
END:VEVENT
END:VCALENDAR