BEGIN:VCALENDAR
VERSION:2.0
PRODID:-//Florida National University (FNU) - ECPv6.14.2//NONSGML v1.0//EN
CALSCALE:GREGORIAN
METHOD:PUBLISH
X-WR-CALNAME:Florida National University (FNU)
X-ORIGINAL-URL:https://www.fnu.edu
X-WR-CALDESC:Events for Florida National University (FNU)
REFRESH-INTERVAL;VALUE=DURATION:PT1H
X-Robots-Tag:noindex
X-PUBLISHED-TTL:PT1H
BEGIN:VTIMEZONE
TZID:America/New_York
BEGIN:DAYLIGHT
TZOFFSETFROM:-0500
TZOFFSETTO:-0400
TZNAME:EDT
DTSTART:20330313T070000
END:DAYLIGHT
BEGIN:STANDARD
TZOFFSETFROM:-0400
TZOFFSETTO:-0500
TZNAME:EST
DTSTART:20331106T060000
END:STANDARD
END:VTIMEZONE
BEGIN:VEVENT
DTSTART;VALUE=DATE:20330414
DTEND;VALUE=DATE:20330415
DTSTAMP:20260425T170309
CREATED:20241011T120802Z
LAST-MODIFIED:20241011T120802Z
UID:28949-1997049600-1997135999@www.fnu.edu
SUMMARY:Holy Thursday – Faculty Workday
DESCRIPTION:
URL:https://www.fnu.edu/event/holy-thursday-faculty-workday-10/
CATEGORIES:event
END:VEVENT
BEGIN:VEVENT
DTSTART;VALUE=DATE:20330415
DTEND;VALUE=DATE:20330416
DTSTAMP:20260425T170309
CREATED:20241011T120828Z
LAST-MODIFIED:20241011T120828Z
UID:28951-1997136000-1997222399@www.fnu.edu
SUMMARY:Good Friday – University Closed
DESCRIPTION:
URL:https://www.fnu.edu/event/good-friday-university-closed-11/
CATEGORIES:event
END:VEVENT
BEGIN:VEVENT
DTSTART;VALUE=DATE:20330421
DTEND;VALUE=DATE:20330422
DTSTAMP:20260425T170309
CREATED:20241011T120855Z
LAST-MODIFIED:20241011T120855Z
UID:28953-1997654400-1997740799@www.fnu.edu
SUMMARY:End of Spring Semester
DESCRIPTION:
URL:https://www.fnu.edu/event/end-of-spring-semester-9/
CATEGORIES:event
END:VEVENT
BEGIN:VEVENT
DTSTART;VALUE=DATE:20330425
DTEND;VALUE=DATE:20330426
DTSTAMP:20260425T170309
CREATED:20241011T120931Z
LAST-MODIFIED:20241011T120931Z
UID:28955-1998000000-1998086399@www.fnu.edu
SUMMARY:Planning and Evaluation Week (No Classes Summer Recess)
DESCRIPTION:
URL:https://www.fnu.edu/event/planning-and-evaluation-week-no-classes-summer-recess-8/
CATEGORIES:event
END:VEVENT
END:VCALENDAR